BEGIN:VCALENDAR
VERSION:2.0
PRODID:-//ChamberMaster//Event Calendar 2.0//EN
METHOD:PUBLISH
X-PUBLISHED-TTL:P1H
REFRESH-INTERVAL:P1H
CALSCALE:GREGORIAN
BEGIN:VTIMEZONE
TZID:America/New_York
BEGIN:DAYLIGHT
RRULE:FREQ=YEARLY;BYMONTH=3;BYDAY=2SU
DTSTART:20070101T000000
TZOFFSETFROM:-0500
TZOFFSETTO:-0400
TZNAME:Eastern Daylight Time
END:DAYLIGHT
BEGIN:STANDARD
RRULE:FREQ=YEARLY;BYMONTH=11;BYDAY=1SU
DTSTART:20070101T000000
TZOFFSETFROM:-0400
TZOFFSETTO:-0500
TZNAME:Eastern Standard Time
END:STANDARD
END:VTIMEZONE
BEGIN:VEVENT
DTSTART;TZID=America/New_York:20260414T130000
DTEND;TZID=America/New_York:20260414T163000
X-MICROSOFT-CDO-ALLDAYEVENT:FALSE
SUMMARY:Module 6-Fraud-It's Real & It's Here
DESCRIPTION:ZOOM AFTERNOON Class\; DE/3 credits\; PA/3.5 elective hours\; Instructor: Barbara Brodoway\, Esq.
X-ALT-DESC;FMTTYPE=text/html:<!DOCTYPE html><html><head><title></title></head><body aria-disabled="false"><p>ZOOM AFTERNOON Class\; DE/3 credits\; PA/3.5 elective hours\; Instructor: Barbara Brodoway\, Esq.</p></body></html>
LOCATION:
UID:e.2138.1383856
SEQUENCE:3
DTSTAMP:20260424T184618Z
URL:https://members.nccbor.com/classcalendar/Details/module-6-fraud-it-s-real-it-s-here-1633985?sourceTypeId=Hub
END:VEVENT
END:VCALENDAR
