BEGIN:VCALENDAR
VERSION:2.0
PRODID:-//ChamberMaster//Event Calendar 2.0//EN
METHOD:PUBLISH
X-PUBLISHED-TTL:P1H
REFRESH-INTERVAL:P1H
CALSCALE:GREGORIAN
BEGIN:VTIMEZONE
TZID:America/New_York
BEGIN:DAYLIGHT
RRULE:FREQ=YEARLY;BYMONTH=3;BYDAY=2SU
DTSTART:20070101T000000
TZOFFSETFROM:-0500
TZOFFSETTO:-0400
TZNAME:Eastern Daylight Time
END:DAYLIGHT
BEGIN:STANDARD
RRULE:FREQ=YEARLY;BYMONTH=11;BYDAY=1SU
DTSTART:20070101T000000
TZOFFSETFROM:-0400
TZOFFSETTO:-0500
TZNAME:Eastern Standard Time
END:STANDARD
END:VTIMEZONE
BEGIN:VEVENT
DTSTART;TZID=America/New_York:20260415T100000
DTEND;TZID=America/New_York:20260415T130000
X-MICROSOFT-CDO-ALLDAYEVENT:FALSE
SUMMARY:Module 7-What Real Estate Agents Need to Know about Mortgage Financing
DESCRIPTION:NCCBOR\; No Walk-ins\; DE/3 credits\; PA/3 elective hours\; MD/3 hours/Topic F (For licensees initially licensed prior to October 1\, 2023)\; Instructor: Bernie Doherty
X-ALT-DESC;FMTTYPE=text/html:<!DOCTYPE html><html><head><title></title></head><body aria-disabled="false"><p>NCCBOR\; No Walk-ins\; DE/3 credits\; PA/3 elective hours\; MD/3 hours/Topic F (For licensees initially licensed prior to October 1\, 2023)\; Instructor: Bernie Doherty</p></body></html>
LOCATION:3615 Miller Road WILMINGTON DE 19802
UID:e.2138.1404276
SEQUENCE:3
DTSTAMP:20260424T184457Z
URL:https://members.nccbor.com/classcalendar/Details/module-7-what-real-estate-agents-need-to-know-about-mortgage-financing-1659513?sourceTypeId=Hub
END:VEVENT
END:VCALENDAR
